BEGIN:VCALENDAR
VERSION:2.0
PRODID:-//Charmaine Gibbs Studios - ECPv5.2.1.1//NONSGML v1.0//EN
CALSCALE:GREGORIAN
METHOD:PUBLISH
X-WR-CALNAME:Charmaine Gibbs Studios
X-ORIGINAL-URL:https://charmainegibbsstudios.com.au
X-WR-CALDESC:Events for Charmaine Gibbs Studios
BEGIN:VTIMEZONE
TZID:Australia/Melbourne
BEGIN:STANDARD
TZOFFSETFROM:+1100
TZOFFSETTO:+1000
TZNAME:AEST
DTSTART:20160402T160000
END:STANDARD
BEGIN:DAYLIGHT
TZOFFSETFROM:+1000
TZOFFSETTO:+1100
TZNAME:AEDT
DTSTART:20161001T160000
END:DAYLIGHT
END:VTIMEZONE
BEGIN:VEVENT
DTSTART;VALUE=DATE:20160711
DTEND;VALUE=DATE:20160712
DTSTAMP:20260421T120545
CREATED:20160114T031121Z
LAST-MODIFIED:20160114T031121Z
UID:381-1468195200-1468281599@charmainegibbsstudios.com.au
SUMMARY:Term III Commences
DESCRIPTION:
URL:https://charmainegibbsstudios.com.au/event/term-iii-commences/
LOCATION:Charmaine Gibbs Studios\, 70 Market Street\, Wollongong\, NSW\, 2500\, Australia
END:VEVENT
END:VCALENDAR