BEGIN:VCALENDAR
VERSION:2.0
PRODID:-//Charmaine Gibbs Studios - ECPv5.2.1.1//NONSGML v1.0//EN
CALSCALE:GREGORIAN
METHOD:PUBLISH
X-WR-CALNAME:Charmaine Gibbs Studios
X-ORIGINAL-URL:https://charmainegibbsstudios.com.au
X-WR-CALDESC:Events for Charmaine Gibbs Studios
BEGIN:VTIMEZONE
TZID:UTC
BEGIN:STANDARD
TZOFFSETFROM:+0000
TZOFFSETTO:+0000
TZNAME:UTC
DTSTART:20180101T000000
END:STANDARD
END:VTIMEZONE
BEGIN:VEVENT
DTSTART;VALUE=DATE:20181008
DTEND;VALUE=DATE:20181009
DTSTAMP:20210228T225233
CREATED:20180429T124719Z
LAST-MODIFIED:20180429T125102Z
UID:489-1538956800-1539043199@charmainegibbsstudios.com.au
SUMMARY:Term 4 Starts
DESCRIPTION:
URL:https://charmainegibbsstudios.com.au/event/term-4-starts-2/
CATEGORIES:CGS
END:VEVENT
END:VCALENDAR