BEGIN:VCALENDAR
VERSION:2.0
PRODID:-//Charmaine Gibbs Studios - ECPv5.2.1.1//NONSGML v1.0//EN
CALSCALE:GREGORIAN
METHOD:PUBLISH
X-WR-CALNAME:Charmaine Gibbs Studios
X-ORIGINAL-URL:https://charmainegibbsstudios.com.au
X-WR-CALDESC:Events for Charmaine Gibbs Studios
BEGIN:VTIMEZONE
TZID:Australia/Melbourne
BEGIN:STANDARD
TZOFFSETFROM:+1100
TZOFFSETTO:+1000
TZNAME:AEST
DTSTART:20170401T160000
END:STANDARD
BEGIN:DAYLIGHT
TZOFFSETFROM:+1000
TZOFFSETTO:+1100
TZNAME:AEDT
DTSTART:20170930T160000
END:DAYLIGHT
END:VTIMEZONE
BEGIN:VEVENT
DTSTART;VALUE=DATE:20170418
DTEND;VALUE=DATE:20170419
DTSTAMP:20260424T235227
CREATED:20170121T021506Z
LAST-MODIFIED:20170121T021506Z
UID:427-1492473600-1492559999@charmainegibbsstudios.com.au
SUMMARY:Term 2 Starts
DESCRIPTION:
URL:https://charmainegibbsstudios.com.au/event/term-2-starts/
LOCATION:Charmaine Gibbs Studios\, 70 Market Street\, Wollongong\, NSW\, 2500\, Australia
END:VEVENT
END:VCALENDAR