BEGIN:VCALENDAR
VERSION:2.0
PRODID:-//Charmaine Gibbs Studios - ECPv4.6.2//NONSGML v1.0//EN
CALSCALE:GREGORIAN
METHOD:PUBLISH
X-WR-CALNAME:Charmaine Gibbs Studios
X-ORIGINAL-URL:https://charmainegibbsstudios.com.au
X-WR-CALDESC:Events for Charmaine Gibbs Studios
BEGIN:VEVENT
DTSTART;TZID=UTC+11:20141210T190000
DTEND;TZID=UTC+11:20141210T210000
DTSTAMP:20200225T074841
CREATED:20141007T200447Z
LAST-MODIFIED:20141010T080605Z
UID:311-1418238000-1418245200@charmainegibbsstudios.com.au
SUMMARY:Senior Concert
DESCRIPTION:Yes\, it’s finally happening….Senior Concert has been booked for Wednesday evening\, 7pm\, 10th December at the Phoenix Theatre!!\nWe would love this to also be a chance for us to share in some Christmas cheer with you all!\nMore info to come but if you can pop this in your diaries\, phones\, filofaxes (does anyone use those anymore…life was simpler I’m sure !!!).\nAdam Vujic will be our accompanist for the evening!\nLooking forward to a fabulous night together.\n
URL:https://charmainegibbsstudios.com.au/event/senior-concert/
LOCATION:24 Bridge St\, Coniston\, NSW\, 2500\, Australia
END:VEVENT
END:VCALENDAR