BEGIN:VCALENDAR
VERSION:2.0
PRODID:-//Charmaine Gibbs Studios - ECPv5.2.1.1//NONSGML v1.0//EN
CALSCALE:GREGORIAN
METHOD:PUBLISH
X-WR-CALNAME:Charmaine Gibbs Studios
X-ORIGINAL-URL:https://charmainegibbsstudios.com.au
X-WR-CALDESC:Events for Charmaine Gibbs Studios
BEGIN:VTIMEZONE
TZID:Australia/Melbourne
BEGIN:STANDARD
TZOFFSETFROM:+1100
TZOFFSETTO:+1000
TZNAME:AEST
DTSTART:20160402T160000
END:STANDARD
BEGIN:DAYLIGHT
TZOFFSETFROM:+1000
TZOFFSETTO:+1100
TZNAME:AEDT
DTSTART:20161001T160000
END:DAYLIGHT
END:VTIMEZONE
BEGIN:VEVENT
DTSTART;VALUE=DATE:20160528
DTEND;VALUE=DATE:20160529
DTSTAMP:20260421T084626
CREATED:20160118T032229Z
LAST-MODIFIED:20160118T032244Z
UID:399-1464393600-1464479999@charmainegibbsstudios.com.au
SUMMARY:Senior Concert
DESCRIPTION:Details to follow.
URL:https://charmainegibbsstudios.com.au/event/senior-concert-2/
LOCATION:Excelsior Hall\, 352-358 Lawrence Hargrave Drive\, Thirroul\, NSW\, 2515\, Australia
END:VEVENT
END:VCALENDAR