BEGIN:VCALENDAR
VERSION:2.0
PRODID:-//Charmaine Gibbs Studios - ECPv5.2.1.1//NONSGML v1.0//EN
CALSCALE:GREGORIAN
METHOD:PUBLISH
X-WR-CALNAME:Charmaine Gibbs Studios
X-ORIGINAL-URL:https://charmainegibbsstudios.com.au
X-WR-CALDESC:Events for Charmaine Gibbs Studios
BEGIN:VTIMEZONE
TZID:UTC
BEGIN:STANDARD
TZOFFSETFROM:+0000
TZOFFSETTO:+0000
TZNAME:UTC
DTSTART:20180101T000000
END:STANDARD
END:VTIMEZONE
BEGIN:VEVENT
DTSTART;TZID=UTC:20181013T100000
DTEND;TZID=UTC:20181013T200000
DTSTAMP:20210228T225620
CREATED:20180429T121548Z
LAST-MODIFIED:20180429T121548Z
UID:460-1539424800-1539460800@charmainegibbsstudios.com.au
SUMMARY:Junior Concert (Year 9 and under)
DESCRIPTION:
URL:https://charmainegibbsstudios.com.au/event/junior-concert-year-9/
LOCATION:Excelsior Hall\, 352-358 Lawrence Hargrave Drive\, Thirroul\, NSW\, 2515\, Australia
CATEGORIES:CGS
END:VEVENT
END:VCALENDAR